BEGIN:VCALENDAR
VERSION:2.0
PRODID:-//Festival And Events - ECPv6.15.20//NONSGML v1.0//EN
CALSCALE:GREGORIAN
METHOD:PUBLISH
X-WR-CALNAME:Festival And Events
X-ORIGINAL-URL:https://festivalevents.org
X-WR-CALDESC:Events for Festival And Events
REFRESH-INTERVAL;VALUE=DURATION:PT1H
X-Robots-Tag:noindex
X-PUBLISHED-TTL:PT1H
BEGIN:VTIMEZONE
TZID:UTC
BEGIN:STANDARD
TZOFFSETFROM:+0000
TZOFFSETTO:+0000
TZNAME:UTC
DTSTART:20240101T000000
END:STANDARD
END:VTIMEZONE
BEGIN:VEVENT
DTSTART;TZID=UTC:20251003T120000
DTEND;TZID=UTC:20251005T220000
DTSTAMP:20260425T025948
CREATED:20250916T145921Z
LAST-MODIFIED:20250916T145921Z
UID:4082-1759492800-1759701600@festivalevents.org
SUMMARY:Austin City Limits (ACL) Festival
DESCRIPTION:Every year\, the city of Austin in Texas comes alive with the sounds of music during the Austin City Limits (ACL) Festival. This festival has become one of the most loved music events in the United States. It usually takes place in early October and spans over two exciting weekends\, filling the atmosphere with joy\, rhythm\, and energy. The festival is held at Zilker Park\, which turns into a colorful sea of people\, food stalls\, and live performances. \nA Diverse Lineup of Music and Talent\nThe ACL Festival is known for bringing together an incredible mix of music artists from all over the world. It does not focus on just one type of music\, which makes it special. Fans get to enjoy rock\, pop\, hip-hop\, country\, indie\, electronic\, and many other genres on several stages set up across the park. Famous headliners and rising new artists share the same spotlight\, creating an unforgettable experience for everyone who comes to watch. \n\nA Place for Everyone\nWhat makes this festival even more unique is that it welcomes people of all ages. There are special areas and fun activities for kids\, plenty of places to rest\, and a wide variety of food and drinks from local vendors. The atmosphere is always friendly and full of life\, which is why families\, groups of friends\, and solo travelers all love attending. \n\nMore Than Just Music\nBesides live performances\, the ACL Festival also supports local art and community causes. Visitors can explore art markets\, enjoy creative installations\, and learn about organizations doing good work in the community. It is not just a music festival—it is a place that celebrates the spirit and culture of Austin.
URL:https://festivalevents.org/event/austin-city-limits-acl-festival/
LOCATION:Zilker Park\, 2100 Barton Springs Rd Austin\, Texas 78704 United States\, Austin\, TX\, United States
CATEGORIES:Music
END:VEVENT
END:VCALENDAR