BEGIN:VCALENDAR
VERSION:2.0
PRODID:-//Festival And Events - ECPv6.15.20//NONSGML v1.0//EN
CALSCALE:GREGORIAN
METHOD:PUBLISH
X-WR-CALNAME:Festival And Events
X-ORIGINAL-URL:https://festivalevents.org
X-WR-CALDESC:Events for Festival And Events
REFRESH-INTERVAL;VALUE=DURATION:PT1H
X-Robots-Tag:noindex
X-PUBLISHED-TTL:PT1H
BEGIN:VTIMEZONE
TZID:UTC
BEGIN:STANDARD
TZOFFSETFROM:+0000
TZOFFSETTO:+0000
TZNAME:UTC
DTSTART:20240101T000000
END:STANDARD
END:VTIMEZONE
BEGIN:VEVENT
DTSTART;TZID=UTC:20250905T110000
DTEND;TZID=UTC:20250907T210000
DTSTAMP:20260424T162839
CREATED:20250429T104258Z
LAST-MODIFIED:20250429T104258Z
UID:3275-1757070000-1757278800@festivalevents.org
SUMMARY:Taste of Chicago Festival
DESCRIPTION:The Taste of Chicago is a big food festival held every year in Chicago. It started in 1980 and has grown to become one of the largest food festivals in the world. People come to enjoy tasty food from many different restaurants\, listen to live music\, and have fun with family and friends. The festival takes place in Grant Park\, which is a large park in the middle of the city\, near Lake Michigan. \nAt the festival\, you can try famous Chicago foods like deep-dish pizza\, hot dogs\, and Italian beef sandwiches. There are also sweet treats like cupcakes and ice cream. Besides food\, there are concerts and activities for kids\, making it a fun event for everyone. One interesting fact is that the festival once served a giant cheesecake weighing over 1\,000 pounds! This festival is a great way to taste the city’s flavors and enjoy the lively atmosphere. Free entry; food and drinks are purchased with tickets. Ticket strips cost about $8.50 for 12 tickets (prices may vary). Food items cost between 3 to 12 tickets each. \nQuick Tips for Visitors\n\n\nArrive early to avoid long lines at popular food stalls. \n\n\nBring comfortable shoes because you will walk and stand a lot. \n\n\nUse sun protection like hats and sunscreen since much of the event is outdoors. \n\n\nPlan your food choices so you don’t waste tickets\, as food vendors only accept tickets\, not cash. \n\n\nEnjoy the music and activities – there’s more than just food to enjoy! \n\n\nThe Taste of Chicago is a perfect place to try new foods and enjoy the city’s culture. It’s a festival where people say\, “Good food brings people together\,” and you can really feel that when you visit.
URL:https://festivalevents.org/event/taste-of-chicago/
LOCATION:Grant Park\, Chicago\, Illinois\, Grant Park\, Chicago\, Illinois\, Chicago\, United States
CATEGORIES:Food & Wine
END:VEVENT
END:VCALENDAR