BEGIN:VCALENDAR
VERSION:2.0
PRODID:-//Festival And Events - ECPv6.15.20//NONSGML v1.0//EN
CALSCALE:GREGORIAN
METHOD:PUBLISH
X-ORIGINAL-URL:https://festivalevents.org
X-WR-CALDESC:Events for Festival And Events
REFRESH-INTERVAL;VALUE=DURATION:PT1H
X-Robots-Tag:noindex
X-PUBLISHED-TTL:PT1H
BEGIN:VTIMEZONE
TZID:UTC
BEGIN:STANDARD
TZOFFSETFROM:+0000
TZOFFSETTO:+0000
TZNAME:UTC
DTSTART:20240101T000000
END:STANDARD
END:VTIMEZONE
BEGIN:VEVENT
DTSTART;TZID=UTC:20250809T110000
DTEND;TZID=UTC:20250810T200000
DTSTAMP:20260424T162627
CREATED:20250429T104901Z
LAST-MODIFIED:20250429T104901Z
UID:3279-1754737200-1754856000@festivalevents.org
SUMMARY:Veggie Festival
DESCRIPTION:Veggie Fest is a lively and colorful festival that celebrates vegetarian and vegan food. Every year\, thousands of people come together to enjoy delicious plant-based meals\, learn about healthy living\, and have fun with family and friends. One visitor said\, “I came back with a full belly\, lots of great knowledge\, and way too much organic and vegan food.” There are food booths from all over the world\, cooking demos\, and even a kids’ tent with crafts and games. People of all ages find something to enjoy\, whether it’s trying new foods\, listening to music\, or chatting with friendly vendors. The festival is so popular that more than 50\,000 people have attended in recent years. As the saying goes\, “The early bird catches the worm\,” so it’s smart to arrive early if you want to try all the tasty samples before they’re gone! \nFun Facts: \n\n\nAdmission and parking are free for everyone4. \n\n\nOnly food tickets need to be purchased\, and you can use cash or credit card3. \n\n\nOver 100 vendors and booths are featured\, offering everything from snacks to souvenirs4. \n\n\nThe festival is family-friendly\, with a special tent just for kids and even a playground1. \n\n\nQuote from a visitor: \n\n“I’m not a vegetarian or a vegan\, but I love this event. I always enjoy trying various vegetarian foods . . . and everything I have ever had there was DELICIOUS!!”
URL:https://festivalevents.org/event/veggie-festival/
LOCATION:Danada South Park\, 2701 Navistar Circle\, Lisle\, IL 60532\, Danada South Park\, 2701 Navistar Circle\, Lisle\, IL 60532\, Lisle\, IL\, 60532\, United States
CATEGORIES:Food & Wine
END:VEVENT
END:VCALENDAR